BEGIN:VCALENDAR
VERSION:2.0
PRODID:-//swoogo.com//NONSGML kigkonsult.se iCalcreator 2.41.90//
CALSCALE:GREGORIAN
UID:34303131-3030-4264-a131-656663363931
BEGIN:VEVENT
UID:99bc1fbe8ca96d9c62d36e8b8e31cdaa66529c2c@swoogo.com
DTSTAMP:20260422T103620Z
DESCRIPTION:Registration for the 2019 ICARE ACADEMY (IA) - DALLAS. \n\n2019
  ICARE ACADEMY is an active learning workshop.  Participants work in small
  facilitated groups to solve problems related to animal program oversight.
  During workshop sessions\, participants are expected to engage in learnin
 g activities and are requested to refrain from routine texting\, email\, o
 r similar activities during workshop sessions. Sufficient time is allotted
  for meals and breaks throughout the day. Participants may catch up with t
 heir routine electronic communication activities during these breaks. \n\n
 The number of attendees at an ICARE ATTI is limited to 36. Space will be f
 illed on a first come-first serve basis. If the program is already sold ou
 t\, the option to add your name to the waitlist will be available.  If you
  have any questions\, please email erin@espinc-usa.com.
DTSTART:20190507T130000Z
DTEND:20190509T210000Z
LAST-MODIFIED:20260422T103620Z
LOCATION:Hotel Providence\, 139 Mathewson St\, Providence\, Rhode Island 02
 903\, United States
SEQUENCE:0
STATUS:CONFIRMED
SUMMARY:ICARE Academy (3 Day IA) 2019 - Providence
TRANSP:OPAQUE
X-ALT-DESC;FMTTYPE=text/html:<div>Registration for the <strong>2019 ICARE A
 CADEMY (IA) - DALLAS.</strong></div>\n\n<div><br /><strong>2019 ICARE Acad
 emy</strong> is an active learning workshop.  Participants work in small f
 acilitated groups to solve problems related to animal program oversight. D
 uring workshop sessions\, participants are expected to engage in learning 
 activities and are requested to refrain from routine texting\, email\, or 
 similar activities during workshop sessions. Sufficient time is allotted f
 or meals and breaks throughout the day. Participants may catch up with the
 ir routine electronic communication activities during these breaks.</div>
 \n\n<div><br />\nThe number of attendees at an ICARE ATTI is limited to 36
 . Space will be filled on a first come-first serve basis. If the program i
 s already sold out\, the option to add your name to the waitlist will be a
 vailable.  If you have any questions\, please email <a href='mailto:erin@e
 spinc-usa.com?Subject=Question%20about%202019%20ICARE%20Academy%20-%20Dall
 as'>erin@espinc-usa.com</a>.</div>
END:VEVENT
END:VCALENDAR
